BEGIN:VCALENDAR
VERSION:2.0
PRODID:-//HEDON - ECPv6.15.20//NONSGML v1.0//EN
CALSCALE:GREGORIAN
METHOD:PUBLISH
X-WR-CALNAME:HEDON
X-ORIGINAL-URL:https://hedon.hu
X-WR-CALDESC:Események HEDON
REFRESH-INTERVAL;VALUE=DURATION:PT1H
X-Robots-Tag:noindex
X-PUBLISHED-TTL:PT1H
BEGIN:VTIMEZONE
TZID:Europe/Budapest
BEGIN:DAYLIGHT
TZOFFSETFROM:+0100
TZOFFSETTO:+0200
TZNAME:CEST
DTSTART:20240331T010000
END:DAYLIGHT
BEGIN:STANDARD
TZOFFSETFROM:+0200
TZOFFSETTO:+0100
TZNAME:CET
DTSTART:20241027T010000
END:STANDARD
BEGIN:DAYLIGHT
TZOFFSETFROM:+0100
TZOFFSETTO:+0200
TZNAME:CEST
DTSTART:20250330T010000
END:DAYLIGHT
BEGIN:STANDARD
TZOFFSETFROM:+0200
TZOFFSETTO:+0100
TZNAME:CET
DTSTART:20251026T010000
END:STANDARD
BEGIN:DAYLIGHT
TZOFFSETFROM:+0100
TZOFFSETTO:+0200
TZNAME:CEST
DTSTART:20260329T010000
END:DAYLIGHT
BEGIN:STANDARD
TZOFFSETFROM:+0200
TZOFFSETTO:+0100
TZNAME:CET
DTSTART:20261025T010000
END:STANDARD
END:VTIMEZONE
BEGIN:VEVENT
DTSTART;TZID=Europe/Budapest:20250913T160000
DTEND;TZID=Europe/Budapest:20250914T020000
DTSTAMP:20260423T121314
CREATED:20250902T101042Z
LAST-MODIFIED:20250902T101042Z
UID:7180-1757779200-1757815200@hedon.hu
SUMMARY:I. Komló és Kolbász Fesztivál Lajoskomáromban
DESCRIPTION:Sziasztok!Tavasszal gondoltunk egy nagyot és elkezdtük megszervezni az első Lajoskomáromi Sörfesztet.\nA Fesztiválra végül a Hedon Sörfőzdével sikerült megegyeznünk\, így az ő söreik fognak folyni a csapokon.\n\nA redezvény zenei aláfestéséről 17:00tól a pincefesztiválról is ismert Borvirág zenekar fog gondoskodni.\n\nA belépés ingyenes\, viszont saját pohár ajánlott. Amennyiben nem hoztok poharat\, úgy repoharat biztosítunk számotokra.\n\nA Hedon sörök és a Borvirág mellett bajor hot dog\, valamint sült kolbász lesz terítéken.\n\nAz est folyamán lehetőség lesz egy sörkvíz kitöltésére is\, valamint szeretnénk egy sör-virsli versenyt is lebonyolítani! \nA délután folyamán egy lengő teke is várni fog Titeket\, valamint a Rizlingtúra akadályversenyének közönségkedvenc feladatait is elhozzuk\, melyek versenyen kívül bárki részére rendelkezésre fognak állni.
URL:https://hedon.hu/esemeny/i-komlo-es-kolbasz-fesztival-lajoskomaromban/
LOCATION:Lajoskomárom Piactér
CATEGORIES:Kitelepülés
ATTACH;FMTTYPE=image/jpeg:https://hedon.hu/wp-content/uploads/2025/09/I.-Komlo-es-Kolbasz-Fesztival-Lajoskomaromban-plakat.jpg
END:VEVENT
BEGIN:VEVENT
DTSTART;TZID=Europe/Budapest:20250816T160000
DTEND;TZID=Europe/Budapest:20250816T220000
DTSTAMP:20260423T121314
CREATED:20250806T073407Z
LAST-MODIFIED:20250811T105404Z
UID:7071-1755360000-1755381600@hedon.hu
SUMMARY:HEDON x PRIVATPARTY SUNSET TOUCH
DESCRIPTION:A HEDON sörmanufaktúra és a PrivatParty csapata meghív egy felejthetetlen zenei utazásra a balatoni naplementében \n\n\n\n\n\n\nIdőpont és helyszín\n\n\n2025. 08. 16. 16:00 – 2025. 08. 16. 22:00 \nBalatonvilágos\, Balatonvilágos\, Balatonvilágos Petőfi Sándor utca 46. (Vörösmarty utca felől\, 8171 Magyarország \n\n\n\n\nAz eseményről\n\n\n\nHEDON x PRIVATPARTY SUNSET TOUCH \n \n\n\n\n\n\n\n \nA PrivatParty csapata elhozza neked a Világ legjobb zenéit egy kihagyhatatlan helyszínen a HEDON sörmanufaktúra teraszán amely szinte a Balaton felett\, exkluzív kilátással rendelkezik pontosan a naplementére!  \nHa kedveled az Afrohouse-t az Afrotech-et majd miután a hold váltja a napot a húzósabb tech stílusokat\, akkor ott a helyed! Megkóstolhatod a jobbnál jobb HEDON sörkülönlegességeket\, a partysorozat hivatalos koktélját és akár a kedvenced is lehet!
URL:https://hedon.hu/esemeny/hedon-x-privatparty-sunset-touch-2/
LOCATION:Hedon Sörfőzde\, Petőfi S. u. 46.\, Balatonvilágos\, 8171\, Hungary
CATEGORIES:Hedon házigazda
ATTACH;FMTTYPE=image/png:https://hedon.hu/wp-content/uploads/2025/08/Hedon-Sunset-Touch-2025.08.16.png
END:VEVENT
BEGIN:VEVENT
DTSTART;TZID=Europe/Budapest:20250809T180000
DTEND;TZID=Europe/Budapest:20250809T210000
DTSTAMP:20260423T121314
CREATED:20250806T073715Z
LAST-MODIFIED:20250806T074626Z
UID:7076-1754762400-1754773200@hedon.hu
SUMMARY:Dj titzkrisztián a Hedonnál
DESCRIPTION:Pénteken felpörgetjük a hangulat a sörfőzde udvarán – DJ titzkrisztian hozza a legjobb vibe-okat a nyár egyik leglazább estjéhez!\n\n\n Funky\, disco\, house és egy kis pop – minden\, ami csak kell egy forró nyáresti tánchoz a Balaton partján. Hedon sörök csapolva\, jéghidegen Street food a teraszon Chill zone a kertben\n\nGyere le\, engedd el magad\, és bulizz velünk egy hatalmasat!\n\nFacebook esemény: https://www.facebook.com/events/1110256067681211 \n\n A belépés ingyenes! Kényelmes cipőt hozz – tánc garantált!
URL:https://hedon.hu/esemeny/dj-titzkrisztian-a-hedonnal/
LOCATION:Hedon Sörfőzde\, Petőfi S. u. 46.\, Balatonvilágos\, 8171\, Hungary
CATEGORIES:Hedon házigazda
ATTACH;FMTTYPE=image/jpeg:https://hedon.hu/wp-content/uploads/2025/08/dj-titzkrisztian-kep.jpg
ORGANIZER;CN="Hedon S%C3%B6rf%C5%91zde":MAILTO:info@hedon.hu
END:VEVENT
BEGIN:VEVENT
DTSTART;TZID=Europe/Budapest:20250628T180000
DTEND;TZID=Europe/Budapest:20250629T020000
DTSTAMP:20260423T121314
CREATED:20250616T100320Z
LAST-MODIFIED:20250616T102735Z
UID:6821-1751133600-1751162400@hedon.hu
SUMMARY:HEDON x PRIVATPARTY SUNSET TOUCH
DESCRIPTION:A HEDON sörmanufaktúra és a PrivatParty csapata meghív egy felejthetetlen zenei utazásra a balatoni naplementében \n\n\n\n\n\n\nIdőpont és helyszín\n\n\n2025. jún. 28. 18:00 – 2025. jún. 29. 2:00 \nBalatonvilágos\, Balatonvilágos\, Balatonvilágos Petőfi Sándor utca 46. (Vörösmarty utca felől\, 8171 Magyarország \n\n\n\n\nAz eseményről\n\n\n\nHEDON x PRIVATPARTY SUNSET TOUCH \n \n\n\n\n\n\n\n\n\n\n\n\n\n\n\n\n \nA PrivatParty csapata elhozza neked a Világ legjobb zenéit egy kihagyhatatlan helyszínen a HEDON sörmanufakúra teraszán amely szinte a balaton felett\, exklúzív kilátással rendelkezik pontosan a naplementére!  \nHa kedveled az Afrohouse-t az Afrotech-et majd miután a hold váltja a napot a húzósabb tech stilusokat\, akkor ott a helyed! Megkóstolhatod a jobbnál jobb HEDON sörkülönlegességeket\, a partysorozat hivatalos koktélját és akár a kedvenced is lehet!
URL:https://hedon.hu/esemeny/hedon-x-privatparty-sunset-touch/
LOCATION:Hedon Sörfőzde\, Petőfi S. u. 46.\, Balatonvilágos\, 8171\, Hungary
CATEGORIES:Hedon házigazda
ATTACH;FMTTYPE=image/avif:https://hedon.hu/wp-content/uploads/2025/06/HEDON-x-PRIVATPARTY-SUNSET-TOUCH-2025-flyer.avif
ORGANIZER;CN="Hedon S%C3%B6rf%C5%91zde":MAILTO:info@hedon.hu
END:VEVENT
BEGIN:VEVENT
DTSTART;TZID=Europe/Budapest:20250621T160000
DTEND;TZID=Europe/Budapest:20250621T160000
DTSTAMP:20260423T121314
CREATED:20250616T094430Z
LAST-MODIFIED:20250616T094544Z
UID:6810-1750521600-1750521600@hedon.hu
SUMMARY:Feel:It SUMMER '25
DESCRIPTION:Balatonvilágos – Hedon Sörfőzde 2025. június 21. | szombat Kezdés: 16:00\n\n\nA Kacsakő után itt a második Feel:it bulink idén – és ismét visszatérünk a Balaton partjára! Indítsd velünk a nyarat egy felejthetetlen délutánnal és estével a különleges hangulatú Hedon Sörfőzdében\, Balatonvilágoson!\n\n\nA legjobb house\, deep és trance dallamokkal várunk\, hogy együtt táncoljunk a lemenő nap fényében. \n\n\n Egész délután és este minőségi elektronikus zene Kézműves Hedon sörök Street food finomságok Barátságos\, laza hangulat\n\n A belépés ingyenes\, de ha szeretnéd támogatni a Feel:it eseményeket\, helyszíni hozzájárulásra lesz lehetőség \n\n\n Családbarát rendezvény – a gyerekeket is nyugodtan hozhatjátok\, a helyszín mindenki számára ideális és biztonságos!\n\n\n Szálláslehetőség korlátozott számban elérhető a helyszínen – érdemes időben foglalni! (Részletek hamarosan.)\n\n\n Csatlakozz hozzánk\, élvezd a zenét\, a naplementét\, a sört és a nyári hangulatot – ez lesz a szezon egyik legemlékezetesebb estéje!\n\n\n További infók hamarosan!\n\n Jelöld be\, hogy ott leszel\, és hívd meg a barátaid is!\n\n\n#Feelit #HedonBrewery #Balatonvilágos #SummerOpening #HouseMusic #TranceVibes #DeepGrooves #CsaládbarátBuli #TámogatóiLehetőség #BalatonParty2025
URL:https://hedon.hu/esemeny/feelit-summer-25/
LOCATION:Hedon Sörfőzde\, Petőfi S. u. 46.\, Balatonvilágos\, 8171\, Hungary
CATEGORIES:Hedon házigazda
ATTACH;FMTTYPE=image/jpeg:https://hedon.hu/wp-content/uploads/2025/06/Feel-It-Summer-25-promo-flyer.jpg
ORGANIZER;CN="Hedon S%C3%B6rf%C5%91zde":MAILTO:info@hedon.hu
END:VEVENT
END:VCALENDAR