BEGIN:VCALENDAR
VERSION:2.0
PRODID:-//HEDON - ECPv6.15.20//NONSGML v1.0//EN
CALSCALE:GREGORIAN
METHOD:PUBLISH
X-ORIGINAL-URL:https://hedon.hu
X-WR-CALDESC:Események HEDON
REFRESH-INTERVAL;VALUE=DURATION:PT1H
X-Robots-Tag:noindex
X-PUBLISHED-TTL:PT1H
BEGIN:VTIMEZONE
TZID:Europe/Budapest
BEGIN:DAYLIGHT
TZOFFSETFROM:+0100
TZOFFSETTO:+0200
TZNAME:CEST
DTSTART:20240331T010000
END:DAYLIGHT
BEGIN:STANDARD
TZOFFSETFROM:+0200
TZOFFSETTO:+0100
TZNAME:CET
DTSTART:20241027T010000
END:STANDARD
BEGIN:DAYLIGHT
TZOFFSETFROM:+0100
TZOFFSETTO:+0200
TZNAME:CEST
DTSTART:20250330T010000
END:DAYLIGHT
BEGIN:STANDARD
TZOFFSETFROM:+0200
TZOFFSETTO:+0100
TZNAME:CET
DTSTART:20251026T010000
END:STANDARD
BEGIN:DAYLIGHT
TZOFFSETFROM:+0100
TZOFFSETTO:+0200
TZNAME:CEST
DTSTART:20260329T010000
END:DAYLIGHT
BEGIN:STANDARD
TZOFFSETFROM:+0200
TZOFFSETTO:+0100
TZNAME:CET
DTSTART:20261025T010000
END:STANDARD
END:VTIMEZONE
BEGIN:VEVENT
DTSTART;TZID=Europe/Budapest:20250816T160000
DTEND;TZID=Europe/Budapest:20250816T220000
DTSTAMP:20260421T193528
CREATED:20250806T073407Z
LAST-MODIFIED:20250811T105404Z
UID:7071-1755360000-1755381600@hedon.hu
SUMMARY:HEDON x PRIVATPARTY SUNSET TOUCH
DESCRIPTION:A HEDON sörmanufaktúra és a PrivatParty csapata meghív egy felejthetetlen zenei utazásra a balatoni naplementében \n\n\n\n\n\n\nIdőpont és helyszín\n\n\n2025. 08. 16. 16:00 – 2025. 08. 16. 22:00 \nBalatonvilágos\, Balatonvilágos\, Balatonvilágos Petőfi Sándor utca 46. (Vörösmarty utca felől\, 8171 Magyarország \n\n\n\n\nAz eseményről\n\n\n\nHEDON x PRIVATPARTY SUNSET TOUCH \n \n\n\n\n\n\n\n \nA PrivatParty csapata elhozza neked a Világ legjobb zenéit egy kihagyhatatlan helyszínen a HEDON sörmanufaktúra teraszán amely szinte a Balaton felett\, exkluzív kilátással rendelkezik pontosan a naplementére!  \nHa kedveled az Afrohouse-t az Afrotech-et majd miután a hold váltja a napot a húzósabb tech stílusokat\, akkor ott a helyed! Megkóstolhatod a jobbnál jobb HEDON sörkülönlegességeket\, a partysorozat hivatalos koktélját és akár a kedvenced is lehet!
URL:https://hedon.hu/esemeny/hedon-x-privatparty-sunset-touch-2/
LOCATION:Hedon Sörfőzde\, Petőfi S. u. 46.\, Balatonvilágos\, 8171\, Hungary
CATEGORIES:Hedon házigazda
ATTACH;FMTTYPE=image/png:https://hedon.hu/wp-content/uploads/2025/08/Hedon-Sunset-Touch-2025.08.16.png
END:VEVENT
BEGIN:VEVENT
DTSTART;TZID=Europe/Budapest:20250628T180000
DTEND;TZID=Europe/Budapest:20250629T020000
DTSTAMP:20260421T193528
CREATED:20250616T100320Z
LAST-MODIFIED:20250616T102735Z
UID:6821-1751133600-1751162400@hedon.hu
SUMMARY:HEDON x PRIVATPARTY SUNSET TOUCH
DESCRIPTION:A HEDON sörmanufaktúra és a PrivatParty csapata meghív egy felejthetetlen zenei utazásra a balatoni naplementében \n\n\n\n\n\n\nIdőpont és helyszín\n\n\n2025. jún. 28. 18:00 – 2025. jún. 29. 2:00 \nBalatonvilágos\, Balatonvilágos\, Balatonvilágos Petőfi Sándor utca 46. (Vörösmarty utca felől\, 8171 Magyarország \n\n\n\n\nAz eseményről\n\n\n\nHEDON x PRIVATPARTY SUNSET TOUCH \n \n\n\n\n\n\n\n\n\n\n\n\n\n\n\n\n \nA PrivatParty csapata elhozza neked a Világ legjobb zenéit egy kihagyhatatlan helyszínen a HEDON sörmanufakúra teraszán amely szinte a balaton felett\, exklúzív kilátással rendelkezik pontosan a naplementére!  \nHa kedveled az Afrohouse-t az Afrotech-et majd miután a hold váltja a napot a húzósabb tech stilusokat\, akkor ott a helyed! Megkóstolhatod a jobbnál jobb HEDON sörkülönlegességeket\, a partysorozat hivatalos koktélját és akár a kedvenced is lehet!
URL:https://hedon.hu/esemeny/hedon-x-privatparty-sunset-touch/
LOCATION:Hedon Sörfőzde\, Petőfi S. u. 46.\, Balatonvilágos\, 8171\, Hungary
CATEGORIES:Hedon házigazda
ATTACH;FMTTYPE=image/avif:https://hedon.hu/wp-content/uploads/2025/06/HEDON-x-PRIVATPARTY-SUNSET-TOUCH-2025-flyer.avif
ORGANIZER;CN="Hedon S%C3%B6rf%C5%91zde":MAILTO:info@hedon.hu
END:VEVENT
BEGIN:VEVENT
DTSTART;TZID=Europe/Budapest:20250620T180000
DTEND;TZID=Europe/Budapest:20250620T180000
DTSTAMP:20260421T193528
CREATED:20250616T093215Z
LAST-MODIFIED:20250616T093307Z
UID:6803-1750442400-1750442400@hedon.hu
SUMMARY:ONE BEER Feszt
DESCRIPTION:🗓️ Dátum: 2025.06.20. – 18:00 – amíg bírjátok!📍 Helyszín: 1108 Budapest\, Maglódi út 12/A📌 Lechner Rendezvényközpont – Pincerendszer & Katlan \n💰 Jegyár: 4990 FtEzért cserébe: korlátlan sörkóstolás a legmenőbb hazai főzdéktől. \n🎯 Mi vár rád?\n☑️Több mint 10 kézműves sörfőzde \n☑️Pincejáratban kóstolhatsz\, a szó szoros értelmében \n☑️Korlátlan sörkóstolás egy jeggyel \n☑️Hoppanások? Csak a söröknél! (Figyelem: a pincerendszer nem akadálymentes.) \n\n🍻 Kint lesznek:\nOne Beer\, HopTop\, SIMA\, Monyo\, Hedon\, Hübris\, Ugar\, Etyeki\, Horizont\, Beertailor\, BGE \n\n⚠️ FONTOS:\nA pince és a katlan nem veszélytelen terep – a jegyvásárlással automatikusan elfogadod\, hogy a szervezők nem vállalnak felelősséget semmilyen személyi sérülésért. Szóval csak óvatosan – és két kézzel a korsót! \n🎟️ Jegyvásárlás \nBelépés menete a rendezvényre: Mutasd fel az online rendelésed\, amennyiben több jegyet vettél\, gyertek együtt a gördülékenyebb beléptetés miatt! Köszi 🙂
URL:https://hedon.hu/esemeny/one-beer-feszt/
LOCATION:Lechner Rendezvényközpont – Pincerendszer & Katlan\, Maglódi út 12/A\, Budapest\, 1108\, Hungary
CATEGORIES:Kitelepülés
ATTACH;FMTTYPE=image/webp:https://hedon.hu/wp-content/uploads/2025/06/ONE-BEER-Feszt-2025-promo.webp
END:VEVENT
END:VCALENDAR